BEGIN:VCALENDAR
VERSION:2.0
PRODID:-//The WA Performance School - ECPv6.5.1.5//NONSGML v1.0//EN
CALSCALE:GREGORIAN
METHOD:PUBLISH
X-WR-CALNAME:The WA Performance School
X-ORIGINAL-URL:https://waps.com.au
X-WR-CALDESC:Events for The WA Performance School
REFRESH-INTERVAL;VALUE=DURATION:PT1H
X-Robots-Tag:noindex
X-PUBLISHED-TTL:PT1H
BEGIN:VTIMEZONE
TZID:Australia/Perth
BEGIN:STANDARD
TZOFFSETFROM:+0800
TZOFFSETTO:+0800
TZNAME:AWST
DTSTART:20190101T000000
END:STANDARD
END:VTIMEZONE
BEGIN:VEVENT
DTSTART;TZID=Australia/Perth:20190217T140000
DTEND;TZID=Australia/Perth:20190217T150000
DTSTAMP:20260422T223123
CREATED:20190111T051956Z
LAST-MODIFIED:20190111T052059Z
UID:4282-1550412000-1550415600@waps.com.au
SUMMARY:Peter Combe performs with WAPS students at Fringe World
DESCRIPTION:Peter Combe returns with a new joyous show for kids\, and adults who are still kids at heart – performing alongside the singers and dancers of The WA Performance School. New songs from his Live It Up collection\, plus the old faves Newspaper Mama\, Juicy Juicy Green Grass\, Spaghetti Bolognaise\, Ting Tang Teng Tong and probably every child’s favourite Wash Your Face in Orange Juice. So Fry An Egg On A Slippery Dip and Sing! \n Start Time & Date: 16th February 2019\, 2.00pm\n AND 17th February 2019\, 2.00pm \n Finish Time & Date: 16th February 2019\, 3.00pm\n AND 17th February 2019\, 3.00pm
URL:https://waps.com.au/event/peter-combe-performs-with-waps-students-at-fringe-world-2/
LOCATION:Fringe World Festival\, Perth\, WA\, 6000
ATTACH;FMTTYPE=image/png:https://waps.com.au/wp-content/uploads/2019/01/PC.png
END:VEVENT
END:VCALENDAR