BEGIN:VCALENDAR
VERSION:2.0
PRODID:-//The WA Performance School - ECPv6.5.1.5//NONSGML v1.0//EN
CALSCALE:GREGORIAN
METHOD:PUBLISH
X-WR-CALNAME:The WA Performance School
X-ORIGINAL-URL:https://waps.com.au
X-WR-CALDESC:Events for The WA Performance School
REFRESH-INTERVAL;VALUE=DURATION:PT1H
X-Robots-Tag:noindex
X-PUBLISHED-TTL:PT1H
BEGIN:VTIMEZONE
TZID:Australia/Perth
BEGIN:STANDARD
TZOFFSETFROM:+0800
TZOFFSETTO:+0800
TZNAME:AWST
DTSTART:20190101T000000
END:STANDARD
END:VTIMEZONE
BEGIN:VEVENT
DTSTART;TZID=Australia/Perth:20190423T180000
DTEND;TZID=Australia/Perth:20190423T191500
DTSTAMP:20260422T194939
CREATED:20190327T033653Z
LAST-MODIFIED:20190805T105913Z
UID:4434-1556042400-1556046900@waps.com.au
SUMMARY:WAPS presents ... STRETCH TO SPLITS!
DESCRIPTION:We are thrilled to announce a special one off workshop for students looking to achieve and utilise their splits! In this fun workshop you will be working on left\, right\, and middle splits\, including fun variations and new ways to use them. You will learn correct warm up technique\, specialised stretches for your hamstrings and hip flexors\, how to get deeper into your splits and comfortably start to stretch to over-splits! Included in your workshop price is the use of our yoga mats\, and special stretching materials (such as blocks\, bands\, and rollers). Open to all\, whether you are a current student or have never even danced before!  \nWHERE: The WA Performance School\, Subiaco\nWHEN: Tuesday April 23rd 6:00pm – 7:15pm\nPRICE: $25.00\nAGE: Adults only\, 18yrs+ \nPlaces are limited\, book today! Email dance@waps.com.au to save your spot – all payments due at least a week prior to workshop to secure your place. \nwww.waps.com.au
URL:https://waps.com.au/event/waps-presents-stretch-to-splits/
LOCATION:The WA Performance School\, Subiaco
CATEGORIES:Class or Workshop
ATTACH;FMTTYPE=image/jpeg:https://waps.com.au/wp-content/uploads/2019/03/waps-presents-stretch-to-splits.jpg
END:VEVENT
END:VCALENDAR