BEGIN:VCALENDAR
VERSION:2.0
PRODID:-//The WA Performance School - ECPv6.5.1.5//NONSGML v1.0//EN
CALSCALE:GREGORIAN
METHOD:PUBLISH
X-ORIGINAL-URL:https://waps.com.au
X-WR-CALDESC:Events for The WA Performance School
REFRESH-INTERVAL;VALUE=DURATION:PT1H
X-Robots-Tag:noindex
X-PUBLISHED-TTL:PT1H
BEGIN:VTIMEZONE
TZID:Australia/Perth
BEGIN:STANDARD
TZOFFSETFROM:+0800
TZOFFSETTO:+0800
TZNAME:AWST
DTSTART:20190101T000000
END:STANDARD
END:VTIMEZONE
BEGIN:VEVENT
DTSTART;TZID=Australia/Perth:20190716T120000
DTEND;TZID=Australia/Perth:20190716T130000
DTSTAMP:20260422T155640
CREATED:20190619T095317Z
LAST-MODIFIED:20190805T110409Z
UID:4697-1563278400-1563282000@waps.com.au
SUMMARY:Acro Dance/Cheerleading Open Workshop (Junior/Intermediate)
DESCRIPTION:Join us for a workshop teaching original acro dance and cheerleading choreography as well as fun tricks and techniques!
URL:https://waps.com.au/event/acro-dance-cheerleading-open-workshop-junior-intermediate/
LOCATION:The WA Performance School
CATEGORIES:Class or Workshop
ATTACH;FMTTYPE=image/jpeg:https://waps.com.au/wp-content/uploads/2019/06/WAPS-Featured-Image-Acro-Dance.jpg
END:VEVENT
END:VCALENDAR