BEGIN:VCALENDAR
VERSION:2.0
PRODID:-//The WA Performance School - ECPv6.5.1.5//NONSGML v1.0//EN
CALSCALE:GREGORIAN
METHOD:PUBLISH
X-ORIGINAL-URL:https://waps.com.au
X-WR-CALDESC:Events for The WA Performance School
REFRESH-INTERVAL;VALUE=DURATION:PT1H
X-Robots-Tag:noindex
X-PUBLISHED-TTL:PT1H
BEGIN:VTIMEZONE
TZID:Australia/Perth
BEGIN:STANDARD
TZOFFSETFROM:+0800
TZOFFSETTO:+0800
TZNAME:AWST
DTSTART:20190101T000000
END:STANDARD
END:VTIMEZONE
BEGIN:VEVENT
DTSTART;VALUE=DATE:20190718
DTEND;VALUE=DATE:20190719
DTSTAMP:20260422T155641
CREATED:20190626T031315Z
LAST-MODIFIED:20190805T105931Z
UID:4861-1563408000-1563494399@waps.com.au
SUMMARY:Final day of Term 2 (Adults Classes)
DESCRIPTION:The final evening of adult classes for Term 2 – Term 3 commences next week.\nEvent Cost : $
URL:https://waps.com.au/event/final-day-of-term-2-adults-classes/
LOCATION:The WA Performance School
CATEGORIES:Term Dates
END:VEVENT
BEGIN:VEVENT
DTSTART;TZID=Australia/Perth:20190718T100000
DTEND;TZID=Australia/Perth:20190718T160000
DTSTAMP:20260422T155641
CREATED:20190619T095650Z
LAST-MODIFIED:20190805T105849Z
UID:4706-1563444000-1563465600@waps.com.au
SUMMARY:Intermediate/Senior Workshops
DESCRIPTION:12.00-1.30pm **Special Musical Theatre Masterclass with Jamie Papanicolaou (UK)** Open Age (Junior-Senior) $25\n2.00-3.00pm Modern Jazz (Intermediate/Senior) $20\n3.00-4.00pm Hip Hop (Intermediate/Senior) $20\n4.00-5.00pm Lyrical/Contemporary (Intermediate/Senior) $20
URL:https://waps.com.au/event/intermediate-senior-workshops/
LOCATION:The WA Performance School
CATEGORIES:Class or Workshop
ATTACH;FMTTYPE=image/jpeg:https://waps.com.au/wp-content/uploads/2019/06/WAPS-Featured-Image-Inter-Senior.jpg
END:VEVENT
BEGIN:VEVENT
DTSTART;TZID=Australia/Perth:20190718T120000
DTEND;TZID=Australia/Perth:20190718T120000
DTSTAMP:20260422T155641
CREATED:20190619T095459Z
LAST-MODIFIED:20190805T110007Z
UID:4703-1563451200-1563451200@waps.com.au
SUMMARY:Special Masterclass: Musical Theatre (open age) with Jamie Papanicolaou (UK)
DESCRIPTION:**Meet our world-class instructor Jamie Papanicolaou\, joining us all the way from the U.K. for a wonderful 90 minute Musical Theatre workshop! Jamie has performed in shows on London’s West End and is a respected dancer\, actor and singer with a passion for performance\, production and teaching. Don’t miss your chance to participate in a special masterclass with this wonderful international instructor\, who will also be taking Senior workshops in Modern Jazz\, Hip Hop and Lyrical/Contemporary.**
URL:https://waps.com.au/event/special-masterclass-musical-theatre-open-age-with-jamie-papanicolaou-uk/
LOCATION:The WA Performance School
CATEGORIES:Class or Workshop
ATTACH;FMTTYPE=image/jpeg:https://waps.com.au/wp-content/uploads/2019/06/WAPS-Featured-Image-Special-Masterclass.jpg
END:VEVENT
END:VCALENDAR