BEGIN:VCALENDAR
VERSION:2.0
PRODID:-//The WA Performance School - ECPv6.5.1.5//NONSGML v1.0//EN
CALSCALE:GREGORIAN
METHOD:PUBLISH
X-WR-CALNAME:The WA Performance School
X-ORIGINAL-URL:https://waps.com.au
X-WR-CALDESC:Events for The WA Performance School
REFRESH-INTERVAL;VALUE=DURATION:PT1H
X-Robots-Tag:noindex
X-PUBLISHED-TTL:PT1H
BEGIN:VTIMEZONE
TZID:Australia/Perth
BEGIN:STANDARD
TZOFFSETFROM:+0800
TZOFFSETTO:+0800
TZNAME:AWST
DTSTART:20190101T000000
END:STANDARD
END:VTIMEZONE
BEGIN:VEVENT
DTSTART;VALUE=DATE:20190916
DTEND;VALUE=DATE:20190917
DTSTAMP:20260421T160415
CREATED:20190821T112928Z
LAST-MODIFIED:20191022T001954Z
UID:5076-1568592000-1568678399@waps.com.au
SUMMARY:Concert RSVPs Due Today
DESCRIPTION:Consent forms for existing students are due today. If you are a new student joining us after this deadline\, please contact dance@waps.com.au to discuss concert participation.
URL:https://waps.com.au/event/concert-rsvps-due-today/
LOCATION:The WA Performance School
END:VEVENT
END:VCALENDAR