BEGIN:VCALENDAR
VERSION:2.0
PRODID:-//The WA Performance School - ECPv6.5.1.5//NONSGML v1.0//EN
CALSCALE:GREGORIAN
METHOD:PUBLISH
X-WR-CALNAME:The WA Performance School
X-ORIGINAL-URL:https://waps.com.au
X-WR-CALDESC:Events for The WA Performance School
REFRESH-INTERVAL;VALUE=DURATION:PT1H
X-Robots-Tag:noindex
X-PUBLISHED-TTL:PT1H
BEGIN:VTIMEZONE
TZID:Australia/Perth
BEGIN:STANDARD
TZOFFSETFROM:+0800
TZOFFSETTO:+0800
TZNAME:AWST
DTSTART:20210101T000000
END:STANDARD
END:VTIMEZONE
BEGIN:VEVENT
DTSTART;TZID=Australia/Perth:20210921T201500
DTEND;TZID=Australia/Perth:20210921T211500
DTSTAMP:20260423T054546
CREATED:20210729T030518Z
LAST-MODIFIED:20210729T030518Z
UID:6109-1632255300-1632258900@waps.com.au
SUMMARY:LVC presents Bellydance Short Course for Adults
DESCRIPTION:Our friends at LVC present a five week course in Bellydance for adults at WAPS!
URL:https://waps.com.au/event/lvc-presents-bellydance-short-course-for-adults-4/
LOCATION:The WA Performance School
CATEGORIES:Class or Workshop
ATTACH;FMTTYPE=image/jpeg:https://waps.com.au/wp-content/uploads/2021/07/Bellydance-Short-Courses-1024x683-1.jpeg
END:VEVENT
END:VCALENDAR